BEGIN:VCALENDAR
VERSION:2.0
PRODID:-//Peter Woodbridge - ECPv6.15.12.1//NONSGML v1.0//EN
CALSCALE:GREGORIAN
METHOD:PUBLISH
X-WR-CALNAME:Peter Woodbridge
X-ORIGINAL-URL:https://peterwoodbridge.com
X-WR-CALDESC:Events for Peter Woodbridge
REFRESH-INTERVAL;VALUE=DURATION:PT1H
X-Robots-Tag:noindex
X-PUBLISHED-TTL:PT1H
BEGIN:VTIMEZONE
TZID:America/Vancouver
BEGIN:DAYLIGHT
TZOFFSETFROM:-0800
TZOFFSETTO:-0700
TZNAME:PDT
DTSTART:20160313T100000
END:DAYLIGHT
BEGIN:STANDARD
TZOFFSETFROM:-0700
TZOFFSETTO:-0800
TZNAME:PST
DTSTART:20161106T090000
END:STANDARD
BEGIN:DAYLIGHT
TZOFFSETFROM:-0800
TZOFFSETTO:-0700
TZNAME:PDT
DTSTART:20170312T100000
END:DAYLIGHT
BEGIN:STANDARD
TZOFFSETFROM:-0700
TZOFFSETTO:-0800
TZNAME:PST
DTSTART:20171105T090000
END:STANDARD
BEGIN:DAYLIGHT
TZOFFSETFROM:-0800
TZOFFSETTO:-0700
TZNAME:PDT
DTSTART:20180311T100000
END:DAYLIGHT
BEGIN:STANDARD
TZOFFSETFROM:-0700
TZOFFSETTO:-0800
TZNAME:PST
DTSTART:20181104T090000
END:STANDARD
BEGIN:DAYLIGHT
TZOFFSETFROM:-0800
TZOFFSETTO:-0700
TZNAME:PDT
DTSTART:20190310T100000
END:DAYLIGHT
BEGIN:STANDARD
TZOFFSETFROM:-0700
TZOFFSETTO:-0800
TZNAME:PST
DTSTART:20191103T090000
END:STANDARD
BEGIN:DAYLIGHT
TZOFFSETFROM:-0800
TZOFFSETTO:-0700
TZNAME:PDT
DTSTART:20200308T100000
END:DAYLIGHT
BEGIN:STANDARD
TZOFFSETFROM:-0700
TZOFFSETTO:-0800
TZNAME:PST
DTSTART:20201101T090000
END:STANDARD
END:VTIMEZONE
BEGIN:VEVENT
DTSTART;TZID=America/Vancouver:20190502T120000
DTEND;TZID=America/Vancouver:20190502T140000
DTSTAMP:20260422T085220
CREATED:20190429T063544Z
LAST-MODIFIED:20190429T072034Z
UID:559-1556798400-1556805600@peterwoodbridge.com
SUMMARY:Book Signing at Coles (Bentall Centre)
DESCRIPTION:Fresh from his success at this year’s London Book Fair\, meet local author Peter Woodbridge at Coles Bentall Centre on Thursday\, May 2nd. Peter will be signing copies of his gripping spy thriller The Girl From Barcelona from 12 noon to 2 pm.
URL:https://peterwoodbridge.com/event/book-signing-at-coles-bentall-centre/
LOCATION:COLES – BENTALL CENTRE\, 595 Burrard Street\, Tower #3\, Vancouver\, BC\, Canada
END:VEVENT
BEGIN:VEVENT
DTSTART;TZID=America/Vancouver:20190209T113000
DTEND;TZID=America/Vancouver:20190209T163000
DTSTAMP:20260422T085220
CREATED:20190125T232122Z
LAST-MODIFIED:20190202T012417Z
UID:522-1549711800-1549729800@peterwoodbridge.com
SUMMARY:Book Signing at IndigoSpirit (Richmond Centre)
DESCRIPTION:
URL:https://peterwoodbridge.com/event/meet-the-author-book-signing-5/
LOCATION:INDIGOSPIRIT – RICHMOND CENTRE\, 6551 No. 3 Road\, Unit 1516A\, Richmond\, BC\, V6Y 2B6\, Canada
END:VEVENT
BEGIN:VEVENT
DTSTART;TZID=America/Vancouver:20190202T123000
DTEND;TZID=America/Vancouver:20190202T153000
DTSTAMP:20260422T085220
CREATED:20190121T213147Z
LAST-MODIFIED:20190202T012804Z
UID:517-1549110600-1549121400@peterwoodbridge.com
SUMMARY:Book Signing at Indigo (Park Royal)
DESCRIPTION:
URL:https://peterwoodbridge.com/event/meet-the-author-book-signing-4/
LOCATION:INDIGO – PARK ROYAL\, 900 Park Royal South\, West Vancouver\, BC\, V7T 1A1\, Canada
END:VEVENT
BEGIN:VEVENT
DTSTART;TZID=America/Vancouver:20180512T140000
DTEND;TZID=America/Vancouver:20180512T170000
DTSTAMP:20260422T085220
CREATED:20180215T001200Z
LAST-MODIFIED:20180215T001200Z
UID:301-1526133600-1526144400@peterwoodbridge.com
SUMMARY:Meet the Author - Book Signing
DESCRIPTION:
URL:https://peterwoodbridge.com/event/meet-author-book-signing-5/
LOCATION:INDIGOSPIRIT – GRANVILLE & ROBSON\, 810 Granville Street\, Vancouver\, BC\, Canada
END:VEVENT
BEGIN:VEVENT
DTSTART;TZID=America/Vancouver:20180511T130000
DTEND;TZID=America/Vancouver:20180511T170000
DTSTAMP:20260422T085220
CREATED:20180321T171435Z
LAST-MODIFIED:20180321T171435Z
UID:320-1526043600-1526058000@peterwoodbridge.com
SUMMARY:Meet the Author - Book Signing
DESCRIPTION:
URL:https://peterwoodbridge.com/event/meet-the-author-book-signing-3/
LOCATION:COLES – BRENTWOOD MALL\, 4567 Lougheed Highway\, Burnaby\, BC\, V5C 3Z6\, Canada
END:VEVENT
BEGIN:VEVENT
DTSTART;TZID=America/Vancouver:20180428T110000
DTEND;TZID=America/Vancouver:20180428T160000
DTSTAMP:20260422T085220
CREATED:20180321T170745Z
LAST-MODIFIED:20180321T170745Z
UID:317-1524913200-1524931200@peterwoodbridge.com
SUMMARY:Meet the Author - Book Signing
DESCRIPTION:
URL:https://peterwoodbridge.com/event/meet-the-author-book-signing-2/
LOCATION:INDIGOSPIRIT – RICHMOND CENTRE\, 6551 No. 3 Road\, Unit 1516A\, Richmond\, BC\, V6Y 2B6\, Canada
END:VEVENT
BEGIN:VEVENT
DTSTART;TZID=America/Vancouver:20180420T160000
DTEND;TZID=America/Vancouver:20180420T190000
DTSTAMP:20260422T085220
CREATED:20180321T170201Z
LAST-MODIFIED:20180321T170201Z
UID:314-1524240000-1524250800@peterwoodbridge.com
SUMMARY:Meet the Author - Book Signing
DESCRIPTION:
URL:https://peterwoodbridge.com/event/meet-the-author-book-signing/
LOCATION:CHAPTERS – BURNABY\, Metropolis\, Metrotown 4700\, Burnaby\, BC\, V5H 4M1\, Canada
END:VEVENT
BEGIN:VEVENT
DTSTART;TZID=America/Vancouver:20180324T110000
DTEND;TZID=America/Vancouver:20180324T150000
DTSTAMP:20260422T085220
CREATED:20180215T001048Z
LAST-MODIFIED:20180215T001048Z
UID:298-1521889200-1521903600@peterwoodbridge.com
SUMMARY:Meet the Author - Book Signing
DESCRIPTION:
URL:https://peterwoodbridge.com/event/meet-author-book-signing-4/
LOCATION:INDIGO – PARK ROYAL\, 900 Park Royal South\, West Vancouver\, BC\, V7T 1A1\, Canada
END:VEVENT
BEGIN:VEVENT
DTSTART;TZID=America/Vancouver:20180309T113000
DTEND;TZID=America/Vancouver:20180309T143000
DTSTAMP:20260422T085220
CREATED:20180112T214143Z
LAST-MODIFIED:20180112T214143Z
UID:292-1520595000-1520605800@peterwoodbridge.com
SUMMARY:Meet the Author – Book Signing
DESCRIPTION:
URL:https://peterwoodbridge.com/event/meet-author-book-signing-3/
LOCATION:COLES – BENTALL CENTRE\, 595 Burrard Street\, Tower #3\, Vancouver\, BC\, Canada
END:VEVENT
BEGIN:VEVENT
DTSTART;TZID=America/Vancouver:20180303T120000
DTEND;TZID=America/Vancouver:20180303T140000
DTSTAMP:20260422T085220
CREATED:20180112T214004Z
LAST-MODIFIED:20180112T214004Z
UID:289-1520078400-1520085600@peterwoodbridge.com
SUMMARY:Meet the Author - Book Signing
DESCRIPTION:
URL:https://peterwoodbridge.com/event/meet-author-book-signing-2/
LOCATION:INDIGO GRANVILLE\, 2505 Granville Street\, Vancouver\, BC\, V6H 3G7\, Canada
END:VEVENT
BEGIN:VEVENT
DTSTART;TZID=America/Vancouver:20180126T140000
DTEND;TZID=America/Vancouver:20180126T170000
DTSTAMP:20260422T085220
CREATED:20180112T213320Z
LAST-MODIFIED:20180112T213320Z
UID:287-1516975200-1516986000@peterwoodbridge.com
SUMMARY:Meet the Author - Book Signing
DESCRIPTION:
URL:https://peterwoodbridge.com/event/meet-author-book-signing/
LOCATION:INDIGOSPIRIT – GRANVILLE & ROBSON\, 810 Granville Street\, Vancouver\, BC\, Canada
END:VEVENT
BEGIN:VEVENT
DTSTART;TZID=America/Vancouver:20171123T120000
DTEND;TZID=America/Vancouver:20171123T150000
DTSTAMP:20260422T085220
CREATED:20171110T223951Z
LAST-MODIFIED:20171115T003747Z
UID:215-1511438400-1511449200@peterwoodbridge.com
SUMMARY:Meet the Author - Book Signing
DESCRIPTION:
URL:https://peterwoodbridge.com/event/november-23-2017-meet-author-book-signing/
LOCATION:COLES – BENTALL CENTRE\, 595 Burrard Street\, Tower #3\, Vancouver\, BC\, Canada
END:VEVENT
BEGIN:VEVENT
DTSTART;TZID=America/Vancouver:20171119T140000
DTEND;TZID=America/Vancouver:20171119T170000
DTSTAMP:20260422T085220
CREATED:20171110T223631Z
LAST-MODIFIED:20171115T003924Z
UID:212-1511100000-1511110800@peterwoodbridge.com
SUMMARY:Meet the Author - Book Signing
DESCRIPTION:
URL:https://peterwoodbridge.com/event/november-19-2017-meet-author-book-signing/
LOCATION:INDIGOSPIRIT – GRANVILLE & ROBSON\, 810 Granville Street\, Vancouver\, BC\, Canada
END:VEVENT
END:VCALENDAR