BEGIN:VCALENDAR
VERSION:2.0
PRODID:-//Peter Woodbridge - ECPv6.15.12.1//NONSGML v1.0//EN
CALSCALE:GREGORIAN
METHOD:PUBLISH
X-ORIGINAL-URL:https://peterwoodbridge.com
X-WR-CALDESC:Events for Peter Woodbridge
REFRESH-INTERVAL;VALUE=DURATION:PT1H
X-Robots-Tag:noindex
X-PUBLISHED-TTL:PT1H
BEGIN:VTIMEZONE
TZID:America/Vancouver
BEGIN:DAYLIGHT
TZOFFSETFROM:-0800
TZOFFSETTO:-0700
TZNAME:PDT
DTSTART:20220313T100000
END:DAYLIGHT
BEGIN:STANDARD
TZOFFSETFROM:-0700
TZOFFSETTO:-0800
TZNAME:PST
DTSTART:20221106T090000
END:STANDARD
BEGIN:DAYLIGHT
TZOFFSETFROM:-0800
TZOFFSETTO:-0700
TZNAME:PDT
DTSTART:20230312T100000
END:DAYLIGHT
BEGIN:STANDARD
TZOFFSETFROM:-0700
TZOFFSETTO:-0800
TZNAME:PST
DTSTART:20231105T090000
END:STANDARD
BEGIN:DAYLIGHT
TZOFFSETFROM:-0800
TZOFFSETTO:-0700
TZNAME:PDT
DTSTART:20240310T100000
END:DAYLIGHT
BEGIN:STANDARD
TZOFFSETFROM:-0700
TZOFFSETTO:-0800
TZNAME:PST
DTSTART:20241103T090000
END:STANDARD
BEGIN:DAYLIGHT
TZOFFSETFROM:-0800
TZOFFSETTO:-0700
TZNAME:PDT
DTSTART:20250309T100000
END:DAYLIGHT
BEGIN:STANDARD
TZOFFSETFROM:-0700
TZOFFSETTO:-0800
TZNAME:PST
DTSTART:20251102T090000
END:STANDARD
END:VTIMEZONE
BEGIN:VEVENT
DTSTART;TZID=America/Vancouver:20231014T113000
DTEND;TZID=America/Vancouver:20231014T163000
DTSTAMP:20260422T153855
CREATED:20230925T194258Z
LAST-MODIFIED:20230925T200847Z
UID:1151-1697283000-1697301000@peterwoodbridge.com
SUMMARY:Book Signing at Indigospirit Richmond Centre
DESCRIPTION:IN PERSON — Peter Woodbridge.Meet local author Peter Woodbridge at Indigospirit Richmond Centre. Take home signed copies of his thrilling trilogy: The Girl From Barcelona\, Girl On The Run\, and Girl with A Vengeance.
URL:https://peterwoodbridge.com/event/book-signing-at-indigospirit-richmond-centre-3/
LOCATION:INDIGOSPIRIT – RICHMOND CENTRE\, 6551 No. 3 Road\, Unit 1516A\, Richmond\, BC\, V6Y 2B6\, Canada
END:VEVENT
BEGIN:VEVENT
DTSTART;TZID=America/Vancouver:20240504T130000
DTEND;TZID=America/Vancouver:20240504T170000
DTSTAMP:20260422T153855
CREATED:20240405T220355Z
LAST-MODIFIED:20240405T220355Z
UID:1227-1714827600-1714842000@peterwoodbridge.com
SUMMARY:Book Signing at Indigo Granville
DESCRIPTION:IN PERSON — Peter Woodbridge. Meet local author Peter Woodbridge at Indigo Granville. Take home signed copies of his thrilling trilogy: The Girl From Barcelona\, Girl On The Run\, and Girl with A Vengeance.
URL:https://peterwoodbridge.com/event/book-signing-at-indigo-granville-2/
LOCATION:INDIGO GRANVILLE\, 2505 Granville Street\, Vancouver\, BC\, V6H 3G7\, Canada
END:VEVENT
END:VCALENDAR