BEGIN:VCALENDAR
VERSION:2.0
PRODID:-//Peter Woodbridge - ECPv6.15.12.1//NONSGML v1.0//EN
CALSCALE:GREGORIAN
METHOD:PUBLISH
X-WR-CALNAME:Peter Woodbridge
X-ORIGINAL-URL:https://peterwoodbridge.com
X-WR-CALDESC:Events for Peter Woodbridge
REFRESH-INTERVAL;VALUE=DURATION:PT1H
X-Robots-Tag:noindex
X-PUBLISHED-TTL:PT1H
BEGIN:VTIMEZONE
TZID:America/Vancouver
BEGIN:DAYLIGHT
TZOFFSETFROM:-0800
TZOFFSETTO:-0700
TZNAME:PDT
DTSTART:20210314T100000
END:DAYLIGHT
BEGIN:STANDARD
TZOFFSETFROM:-0700
TZOFFSETTO:-0800
TZNAME:PST
DTSTART:20211107T090000
END:STANDARD
BEGIN:DAYLIGHT
TZOFFSETFROM:-0800
TZOFFSETTO:-0700
TZNAME:PDT
DTSTART:20220313T100000
END:DAYLIGHT
BEGIN:STANDARD
TZOFFSETFROM:-0700
TZOFFSETTO:-0800
TZNAME:PST
DTSTART:20221106T090000
END:STANDARD
BEGIN:DAYLIGHT
TZOFFSETFROM:-0800
TZOFFSETTO:-0700
TZNAME:PDT
DTSTART:20230312T100000
END:DAYLIGHT
BEGIN:STANDARD
TZOFFSETFROM:-0700
TZOFFSETTO:-0800
TZNAME:PST
DTSTART:20231105T090000
END:STANDARD
END:VTIMEZONE
BEGIN:VEVENT
DTSTART;TZID=America/Vancouver:20221120T120000
DTEND;TZID=America/Vancouver:20221120T153000
DTSTAMP:20260423T121330
CREATED:20221118T213503Z
LAST-MODIFIED:20221119T050527Z
UID:1029-1668945600-1668958200@peterwoodbridge.com
SUMMARY:Book Signing at IndigoSpirit Richmond Centre
DESCRIPTION:Meet Peter Woodbridge as he signs copies of his new releases\, The Girl From Barcelona (2022 Edition) and its sequel\, Girl On The Run.
URL:https://peterwoodbridge.com/event/book-signing-at-indigospirit-richmond-centre-2/
LOCATION:INDIGOSPIRIT – RICHMOND CENTRE\, 6551 No. 3 Road\, Unit 1516A\, Richmond\, BC\, V6Y 2B6\, Canada
END:VEVENT
END:VCALENDAR